BEGIN:VCALENDAR
VERSION:2.0
PRODID:Imitheme.com
BEGIN:VEVENT
UID:20190227T233932-1104722808
DTSTAMP:20190227T233932
DTSTART:20190225T150000
DTEND:20190225T163000
SUMMARY:Homework Club
LOCATION:Smithfield Baptist Church
DESCRIPTION: 
END:VEVENT
END:VCALENDAR
