BEGIN:VCALENDAR
VERSION:2.0
PRODID:Imitheme.com
BEGIN:VEVENT
UID:20190227T234034-1176994485
DTSTAMP:20190227T234034
DTSTART:20190301T093000
DTEND:20190301T103000
SUMMARY:ESL Classes
LOCATION:Smithfield Baptist Church
DESCRIPTION: 
END:VEVENT
END:VCALENDAR
