BEGIN:VCALENDAR
VERSION:2.0
PRODID:Imitheme.com 
BEGIN:VEVENT
UID:20190227T234124593369919
DTSTAMP;TZID=UTC:20190227T234124
DTSTART;TZID=UTC:20190510T183000
DTEND;TZID=UTC:20190510T203000
SUMMARY:Youth Group
LOCATION:Smithfield Baptist Church
DESCRIPTION:
END:VEVENT
END:VCALENDAR
